BEGIN:VCALENDAR
VERSION:2.0
PRODID:-//DJ-ENRICO - ECPv6.15.20//NONSGML v1.0//EN
CALSCALE:GREGORIAN
METHOD:PUBLISH
X-WR-CALNAME:DJ-ENRICO
X-ORIGINAL-URL:https://dj-enrico.com
X-WR-CALDESC:Veranstaltungen für DJ-ENRICO
REFRESH-INTERVAL;VALUE=DURATION:PT1H
X-Robots-Tag:noindex
X-PUBLISHED-TTL:PT1H
BEGIN:VTIMEZONE
TZID:UTC
BEGIN:STANDARD
TZOFFSETFROM:+0000
TZOFFSETTO:+0000
TZNAME:UTC
DTSTART:20250101T000000
END:STANDARD
END:VTIMEZONE
BEGIN:VEVENT
DTSTART;TZID=UTC:20260426T140000
DTEND;TZID=UTC:20260426T170000
DTSTAMP:20260419T125842
CREATED:20251119T151236Z
LAST-MODIFIED:20251119T151236Z
UID:540-1777212000-1777222800@dj-enrico.com
SUMMARY:Stadionsprecher
DESCRIPTION:Meuro
URL:https://dj-enrico.com/event/stadionsprecher-2/
END:VEVENT
BEGIN:VEVENT
DTSTART;TZID=UTC:20260430T160000
DTEND;TZID=UTC:20260501T060000
DTSTAMP:20260419T125842
CREATED:20251114T155342Z
LAST-MODIFIED:20251114T155342Z
UID:369-1777564800-1777615200@dj-enrico.com
SUMMARY:Maibaum stellen / Tanz in den Mai
DESCRIPTION:Feuerwehr Meuro
URL:https://dj-enrico.com/event/maibaum-stellen-tanz-in-den-mai/
END:VEVENT
BEGIN:VEVENT
DTSTART;TZID=UTC:20260509T180000
DTEND;TZID=UTC:20260509T233000
DTSTAMP:20260419T125842
CREATED:20260307T073626Z
LAST-MODIFIED:20260307T073626Z
UID:677-1778349600-1778369400@dj-enrico.com
SUMMARY:Senftenberger See
DESCRIPTION:Vereinsfest Anfrage
URL:https://dj-enrico.com/event/senftenberger-see/
END:VEVENT
BEGIN:VEVENT
DTSTART;TZID=UTC:20260512T160000
DTEND;TZID=UTC:20260512T233000
DTSTAMP:20260419T125842
CREATED:20251118T174036Z
LAST-MODIFIED:20251118T174036Z
UID:497-1778601600-1778628600@dj-enrico.com
SUMMARY:Hochzeit
DESCRIPTION:Senftenberg Dans300/2026
URL:https://dj-enrico.com/event/hochzeit/
END:VEVENT
BEGIN:VEVENT
DTSTART;TZID=UTC:20260517T140000
DTEND;TZID=UTC:20260517T170000
DTSTAMP:20260419T125842
CREATED:20251119T151042Z
LAST-MODIFIED:20251119T151106Z
UID:538-1779026400-1779037200@dj-enrico.com
SUMMARY:Stadionsprecher
DESCRIPTION:Meuro
URL:https://dj-enrico.com/event/stadionsprecher/
END:VEVENT
BEGIN:VEVENT
DTSTART;VALUE=DATE:20260524
DTEND;VALUE=DATE:20260525
DTSTAMP:20260419T125842
CREATED:20251001T204659Z
LAST-MODIFIED:20251001T204659Z
UID:264-1779580800-1779667199@dj-enrico.com
SUMMARY:Jugendweihe Hosena
DESCRIPTION:
URL:https://dj-enrico.com/event/jugendweihe-hosena/
END:VEVENT
BEGIN:VEVENT
DTSTART;TZID=UTC:20260531T133000
DTEND;TZID=UTC:20260531T163000
DTSTAMP:20260419T125842
CREATED:20260115T065703Z
LAST-MODIFIED:20260115T065703Z
UID:632-1780234200-1780245000@dj-enrico.com
SUMMARY:Stadionsprecher
DESCRIPTION:Meuro
URL:https://dj-enrico.com/event/stadionsprecher-3/
END:VEVENT
BEGIN:VEVENT
DTSTART;TZID=UTC:20260613T170000
DTEND;TZID=UTC:20260613T233000
DTSTAMP:20260419T125842
CREATED:20250925T225021Z
LAST-MODIFIED:20250925T225021Z
UID:179-1781370000-1781393400@dj-enrico.com
SUMMARY:Anfrage NH SCC
DESCRIPTION:
URL:https://dj-enrico.com/event/anfrage-nh-scc/
END:VEVENT
BEGIN:VEVENT
DTSTART;TZID=UTC:20260614T133000
DTEND;TZID=UTC:20260614T170000
DTSTAMP:20260419T125842
CREATED:20260115T065855Z
LAST-MODIFIED:20260115T065855Z
UID:634-1781443800-1781456400@dj-enrico.com
SUMMARY:Stadionsprecher
DESCRIPTION:Meuro
URL:https://dj-enrico.com/event/stadionsprecher-4/
END:VEVENT
BEGIN:VEVENT
DTSTART;TZID=UTC:20260620T140000
DTEND;TZID=UTC:20260620T203000
DTSTAMP:20260419T125842
CREATED:20250925T225053Z
LAST-MODIFIED:20250925T225053Z
UID:181-1781964000-1781987400@dj-enrico.com
SUMMARY:Firmenfest Schwarzheide / Buchn.: 3002026
DESCRIPTION:
URL:https://dj-enrico.com/event/firmenfest-schwarzheide-buchn-3002026/
END:VEVENT
BEGIN:VEVENT
DTSTART;VALUE=DATE:20260627
DTEND;VALUE=DATE:20260628
DTSTAMP:20260419T125842
CREATED:20260307T073750Z
LAST-MODIFIED:20260307T073750Z
UID:679-1782518400-1782604799@dj-enrico.com
SUMMARY:Privat
DESCRIPTION:
URL:https://dj-enrico.com/event/privat-2/
END:VEVENT
BEGIN:VEVENT
DTSTART;VALUE=DATE:20260704
DTEND;VALUE=DATE:20260705
DTSTAMP:20260419T125842
CREATED:20260328T061537Z
LAST-MODIFIED:20260328T061621Z
UID:747-1783123200-1783209599@dj-enrico.com
SUMMARY:Kinder und Vereinsfest Meuro
DESCRIPTION:
URL:https://dj-enrico.com/event/kinde2r-und-vereinsfest-meuro/
END:VEVENT
BEGIN:VEVENT
DTSTART;VALUE=DATE:20260718
DTEND;VALUE=DATE:20260719
DTSTAMP:20260419T125842
CREATED:20260308T172531Z
LAST-MODIFIED:20260308T172531Z
UID:695-1784332800-1784419199@dj-enrico.com
SUMMARY:Vereinsfest Buchn.: 3002026
DESCRIPTION:Senftenberg
URL:https://dj-enrico.com/event/vereinsfest-buchn-3002026/
END:VEVENT
BEGIN:VEVENT
DTSTART;VALUE=DATE:20260727
DTEND;VALUE=DATE:20260808
DTSTAMP:20260419T125842
CREATED:20260307T074007Z
LAST-MODIFIED:20260307T074007Z
UID:683-1785110400-1786147199@dj-enrico.com
SUMMARY:Ausgebucht
DESCRIPTION:
URL:https://dj-enrico.com/event/ausgebucht/
END:VEVENT
BEGIN:VEVENT
DTSTART;TZID=UTC:20260815T173000
DTEND;TZID=UTC:20260815T233000
DTSTAMP:20260419T125842
CREATED:20260307T073912Z
LAST-MODIFIED:20260307T073912Z
UID:681-1786815000-1786836600@dj-enrico.com
SUMMARY:Geburtstag
DESCRIPTION:NH Buchn.: 2502026
URL:https://dj-enrico.com/event/geburtstag-2/
END:VEVENT
BEGIN:VEVENT
DTSTART;TZID=UTC:20260915T180000
DTEND;TZID=UTC:20260915T233000
DTSTAMP:20260419T125842
CREATED:20260307T074105Z
LAST-MODIFIED:20260307T074105Z
UID:685-1789495200-1789515000@dj-enrico.com
SUMMARY:Best Western
DESCRIPTION:BW Buchn.: 3202026
URL:https://dj-enrico.com/event/best-western/
END:VEVENT
BEGIN:VEVENT
DTSTART;VALUE=DATE:20261111
DTEND;VALUE=DATE:20261112
DTSTAMP:20260419T125842
CREATED:20260307T074259Z
LAST-MODIFIED:20260307T074259Z
UID:689-1794355200-1794441599@dj-enrico.com
SUMMARY:SCC Bürgerhaus
DESCRIPTION:
URL:https://dj-enrico.com/event/scc-buergerhaus/
END:VEVENT
BEGIN:VEVENT
DTSTART;VALUE=DATE:20261114
DTEND;VALUE=DATE:20261115
DTSTAMP:20260419T125842
CREATED:20260307T074325Z
LAST-MODIFIED:20260307T074325Z
UID:691-1794614400-1794700799@dj-enrico.com
SUMMARY:SCC Narrenhof
DESCRIPTION:
URL:https://dj-enrico.com/event/scc-narrenhof/
END:VEVENT
BEGIN:VEVENT
DTSTART;VALUE=DATE:20261218
DTEND;VALUE=DATE:20261219
DTSTAMP:20260419T125842
CREATED:20260307T074155Z
LAST-MODIFIED:20260307T074155Z
UID:687-1797552000-1797638399@dj-enrico.com
SUMMARY:Weihnachtssingen
DESCRIPTION:Meuro
URL:https://dj-enrico.com/event/weihnachtssingen/
END:VEVENT
BEGIN:VEVENT
DTSTART;TZID=UTC:20261223T180000
DTEND;TZID=UTC:20261223T233000
DTSTAMP:20260419T125842
CREATED:20251118T163956Z
LAST-MODIFIED:20251118T163956Z
UID:471-1798048800-1798068600@dj-enrico.com
SUMMARY:Geburtstag
DESCRIPTION:Schützenhaus Den50/2026
URL:https://dj-enrico.com/event/geburtstag/
END:VEVENT
END:VCALENDAR